{
 "extent": {
  "ymin": 44.357651603951453,
  "xmin": -116.04931446322433,
  "ymax": 49.001146907532657,
  "xmax": -104.03970297954865,
  "spatialReference": {
   "latestWkid": 4269,
   "wkid": 4269
  }
 },
 "blockWidth": 128,
 "mosaicOperator": "First",
 "serviceSourceType": "esriImageServiceSourceTypeDataset",
 "hasMultidimensions": false,
 "maxImageWidth": 15000,
 "meanValues": [
  3.1329844084187157
 ],
 "hasColormap": true,
 "compressionType": "LZ77",
 "defaultCompressionQuality": 75,
 "maxValues": [
  8
 ],
 "hasHistograms": true,
 "datasetFormat": "SDR",
 "maxImageHeight": 4100,
 "sortField": "",
 "bandNames": [
  "Band_1"
 ],
 "spatialReference": {
  "latestWkid": 4269,
  "wkid": 4269
 },
 "fullExtent": {
  "ymin": 44.357651603951453,
  "xmin": -116.04931446322433,
  "ymax": 49.001146907532657,
  "xmax": -104.03970297954865,
  "spatialReference": {
   "latestWkid": 4269,
   "wkid": 4269
  }
 },
 "bandCount": 1,
 "rasterFunctionInfos": [
  {
   "help": "",
   "name": "None",
   "description": ""
  }
 ],
 "supportsStatistics": false,
 "sortableFields": "",
 "minValues": [
  1
 ],
 "allowRasterFunction": true,
 "allowComputeTiePoints": false,
 "serviceDataType": "esriImageServiceDataTypeThematic",
 "supportsAdvancedQueries": false,
 "currentVersion": 12,
 "sortValue": null,
 "objectIdField": "",
 "blockHeight": 128,
 "initialExtent": {
  "ymin": 44.357651603951453,
  "xmin": -116.04931446322433,
  "ymax": 49.001146907532657,
  "xmax": -104.03970297954865,
  "spatialReference": {
   "latestWkid": 4269,
   "wkid": 4269
  }
 },
 "pixelSizeX": 0.0003769376819207082,
 "pixelSizeY": 0.0003769376819207082,
 "defaultMosaicMethod": "Center",
 "name": "Basemap/USGS_LandCoverChange_LCMAP",
 "allowedMosaicMethods": "",
 "fields": [],
 "allowAnalysis": true,
 "hasRasterAttributeTable": false,
 "useStandardizedQueries": false,
 "description": "",
 "pixelType": "U8",
 "meanPixelSize": 41.96051081221016,
 "exportTilesAllowed": false,
 "editFieldsInfo": null,
 "rasterTypeInfos": [
  {
   "help": "",
   "name": "Raster Dataset",
   "description": "Supports all ArcGIS Raster Datasets"
  }
 ],
 "defaultResamplingMethod": "Bilinear",
 "itemAccess": false,
 "minScale": 0,
 "serviceProperties": "Center<\/MosaicMethod>First<\/MosaicOperator>true<\/SortAscending><\/LockImageID><\/TileOrderField>0<\/TileOrderBase>0.000000<\/AvgImageSpacingX>0.000000<\/AvgImageSpacingY>0.0<\/ViewPointX>0.0<\/ViewPointY>0.0<\/ViewPointDefShiftX>0.0<\/ViewPointDefShiftY>None<\/CompressionMethod>75<\/CompressionQuality>0.010000<\/CompressionTolerance>Bilinear<\/SamplingMethod><\/ImageServiceProperties><\/ImageServer>",
 "advancedQueryCapabilities": {
  "supportsStatistics": false,
  "supportsSqlExpression": false,
  "supportsOrderBy": false,
  "useStandardizedQueries": false,
  "supportsPagination": false,
  "supportsDistinct": false
 },
 "capabilities": "Image,Metadata,Mensuration",
 "maxScale": 0,
 "stdvValues": [
  0.90665547890118525
 ],
 "allowedFields": "",
 "minPixelSize": 0,
 "sortAscending": true,
 "inspectionCapabilities": "",
 "maxPixelSize": 0,
 "uncompressedSize": 392495659,
 "serviceDescription": "Basemap/USGS_LandCoverChange_LCMAP",
 "allowCopy": true,
 "copyrightText": "",
 "mensurationCapabilities": "Basic",
 "ownershipBasedAccessControlForRasters": null
}
