<?xml version="1.0" encoding="UTF-8" standalone="no"?>
<gmd:MD_Metadata xmlns:gmd="http://www.isotc211.org/2005/gmd" xmlns:fo="http://www.w3.org/1999/XSL/Format" xmlns:gco="http://www.isotc211.org/2005/gco" xmlns:gfc="http://www.isotc211.org/2005/gfc" xmlns:gml="http://www.opengis.net/gml" xmlns:gmx="http://www.isotc211.org/2005/gmx" xmlns:gts="http://www.isotc211.org/2005/gts" xmlns:map="urn:brgm:mapping" xmlns:xlink="http://www.w3.org/1999/xlink" xmlns:xsi="http://www.w3.org/2001/XMLSchema-instance" xsi:schemaLocation="http://www.isotc211.org/2005/gmd ../schemas/iso19139fra/gmd/gmd.xsd">
<geosoft xmlns="http://www.geosoft.com/schema/geo">
<dataset version="1">
<title>Dose_version1</title>
<file_format>flt</file_format>
<project_name>c:\eric\projects\boulder\gis\geophysics\survey2022\sciencebase\mt2022_conversion.gpf</project_name>
<data_created_by>Anderson, Eric D.</data_created_by>
<data_creation_date>2024-01-11</data_creation_date>
<metadata_created_by>Anderson, Eric D.</metadata_created_by>
<metadata_creation_date>2024-01-11</metadata_creation_date>
<lineage>
<process date="2024-01-11" name="geogxnet.dll(Geosoft.GX.GridUtils.CopyConvertMultiGrids;Run)" time="09:33:24" user="Anderson, Eric D." version="Version 2022.2 (20221207.28)">
<parameter name="GRIDCOPY::DISPLAY_OPTION" type="string" value="Display grid"/>
<parameter name="GRIDCOPY::IN" type="string" value=".\EA_Conversion\ContractorsDeliverables_radiometrics\Dose_version1.grd|Pot_version1.grd|RTK_version1.grd|RUK_version1.grd|RUT_version1.grd|Tho_version1.grd|Ura_version1.grd(GRD)"/>
<parameter name="GRIDCOPY::OUT_FOLDER" type="string" value=".\EA_Conversion\ContractorsDeliverables_radiometrics\flt"/>
<parameter name="GRIDCOPY::OUT_FORMAT" type="string" value="ARC"/>
<parameter name="GRIDCOPY::OVERWRITE" type="integer" value="1"/>
<source name="c:\eric\Projects\Boulder\GIS\geophysics\survey2022\sciencebase\EA_Conversion\ContractorsDeliverables_radiometrics\Dose_version1.grd" type="GRID">
<lineage>
<process date="2023-02-23" displaystring="GRIDMASK" name="gridmask.gx" time="10:00:21" user="Drenth, Benjamin J." version="Version 2022.2 (20221207.28)">
<parameter name="GRIDMASK::GRDIN" type="string" value=".\delivered_data\DLV2572\DLV2572\Dose.grd(GRD)"/>
<parameter name="GRIDMASK::GRDOUT" type="string" value=".\Version1Files\ContractorsDeliverables_radiometrics\Dose_version1.grd(GRD)"/>
<parameter name="GRIDMASK::MASKOPT" type="string" value="INSIDE"/>
<parameter name="GRIDMASK::POLY" type="string" value="..\RTX_area1.ply"/>
<parameter name="GRIDMASK::RESIZE" type="string" value="YES"/>
<source name="f:\montana_field_data\datarelease\__gmasktmp.grd" type="GRID"/>
<source name="f:\montana_field_data\datarelease\delivered_data\DLV2572\DLV2572\Dose.grd" type="GRID"/>
</process>
</lineage>
</source>
</process>
</lineage>
<georeference>
<dataextents>
<extent2d maxx="456040" maxy="5157640" minx="388040" miny="5078560"/>
</dataextents>
<projection datum="NAD83" datumtrf="NAD83 to WGS 84 (1)" datumtrf_description="[NAD83] (4m) North America - Canada and USA (CONUS, Alaska mainland)" datumtrf_epsg="1188" eccentricity="0.081819191042815792" ellipsoid="GRS 1980" name="NAD83 / UTM zone 12N" projection="UTM zone 12N" radius="6378137" type="TRANSVERSE_MERCATOR" wellknown_epsg="26912">
<shift x="0" y="0" z="0"/>
<parameters false_east="500000" false_north="0" lat_origin="0" lon_origin="-111" scale="0.9996"/>
<units name="m" unit_scale="1"/>
</projection>
</georeference>
</dataset>
</geosoft>
<gmd:dataQualityInfo>
<gmd:DQ_DataQuality>
<gmd:lineage>
<gmd:LI_Lineage>
<gmd:processStep xlink:title="geogxnet.dll(Geosoft.GX.GridUtils.CopyConvertMultiGrids;Run)" xlink:type="Geosoft Process">
<gmd:LI_ProcessStep>
<gmd:dateTime>
<gco:DateTime>2024-01-11T09:33:24</gco:DateTime>
</gmd:dateTime>
<gmd:processor>
<gmd:CI_ResponsibleParty>
<gmd:individualName>
<gco:CharacterString>Anderson, Eric D.</gco:CharacterString>
</gmd:individualName>
</gmd:CI_ResponsibleParty>
</gmd:processor>
<gmd:source xlink:role="GRIDCOPY::DISPLAY_OPTION" xlink:title="Display grid" xlink:type="Data Parameter">
<gmd:LI_Source/>
</gmd:source>
<gmd:source xlink:role="GRIDCOPY::IN" xlink:title=".\EA_Conversion\ContractorsDeliverables_radiometrics\Dose_version1.grd|Pot_version1.grd|RTK_version1.grd|RUK_version1.grd|RUT_version1.grd|Tho_version1.grd|Ura_version1.grd(GRD)" xlink:type="Data Parameter">
<gmd:LI_Source/>
</gmd:source>
<gmd:source xlink:role="GRIDCOPY::OUT_FOLDER" xlink:title=".\EA_Conversion\ContractorsDeliverables_radiometrics\flt" xlink:type="Data Parameter">
<gmd:LI_Source/>
</gmd:source>
<gmd:source xlink:role="GRIDCOPY::OUT_FORMAT" xlink:title="ARC" xlink:type="Data Parameter">
<gmd:LI_Source/>
</gmd:source>
<gmd:source xlink:role="GRIDCOPY::OVERWRITE" xlink:title="1" xlink:type="Data Parameter">
<gmd:LI_Source/>
</gmd:source>
<gmd:source xlink:role="GRID" xlink:title="c:\eric\Projects\Boulder\GIS\geophysics\survey2022\sciencebase\EA_Conversion\ContractorsDeliverables_radiometrics\Dose_version1.grd" xlink:type="Data Source">
<gmd:LI_Source/>
</gmd:source>
</gmd:LI_ProcessStep>
</gmd:processStep>
</gmd:LI_Lineage>
</gmd:lineage>
</gmd:DQ_DataQuality>
</gmd:dataQualityInfo>
<gmd:identificationInfo>
<gmd:MD_DataIdentification>
<gmd:citation>
<gmd:CI_Citation>
<gmd:title>
<gco:CharacterString>Dose_version1</gco:CharacterString>
</gmd:title>
<gmd:collectiveTitle>
<gco:CharacterString>c:\eric\projects\boulder\gis\geophysics\survey2022\sciencebase\mt2022_conversion.gpf</gco:CharacterString>
</gmd:collectiveTitle>
<gmd:date>
<gmd:CI_Date>
<gmd:date>
<gco:Date>2024-1-11</gco:Date>
</gmd:date>
</gmd:CI_Date>
</gmd:date>
</gmd:CI_Citation>
</gmd:citation>
<gmd:resourceFormat>
<gmd:MD_Format>
<gmd:name>
<gco:CharacterString>flt</gco:CharacterString>
</gmd:name>
</gmd:MD_Format>
</gmd:resourceFormat>
<gmd:pointOfContact>
<gmd:CI_ResponsibleParty>
<gmd:individualName>
<gco:CharacterString>Anderson, Eric D.</gco:CharacterString>
</gmd:individualName>
</gmd:CI_ResponsibleParty>
</gmd:pointOfContact>
<gmd:extent>
<gmd:EX_Extent>
<gmd:geographicElement>
<gmd:EX_GeographicBoundingBox>
<gmd:westBoundLongitude>
<gco:Decimal>-112.46080300663644</gco:Decimal>
</gmd:westBoundLongitude>
<gmd:eastBoundLongitude>
<gco:Decimal>-111.56628726706271</gco:Decimal>
</gmd:eastBoundLongitude>
<gmd:southBoundLatitude>
<gco:Decimal>45.85150527736166</gco:Decimal>
</gmd:southBoundLatitude>
<gmd:northBoundLatitude>
<gco:Decimal>46.570887411118242</gco:Decimal>
</gmd:northBoundLatitude>
</gmd:EX_GeographicBoundingBox>
</gmd:geographicElement>
</gmd:EX_Extent>
</gmd:extent>
</gmd:MD_DataIdentification>
</gmd:identificationInfo>
<gmd:contact>
<gmd:CI_ResponsibleParty>
<gmd:individualName>
<gco:CharacterString>Anderson, Eric D.</gco:CharacterString>
</gmd:individualName>
</gmd:CI_ResponsibleParty>
</gmd:contact>
<gmd:dateStamp>
<gco:Date>2024-1-11</gco:Date>
</gmd:dateStamp>
<gmd:referenceSystemInfo>
<gmd:MD_ReferenceSystem>
<gmd:referenceSystemIdentifier>
<gmd:RS_Identifier>
<gmd:codeSpace>
<gco:CharacterString>ESRI</gco:CharacterString>
</gmd:codeSpace>
<gmd:code>
<gco:CharacterString>PROJCS["NAD_1983_UTM_Zone_12N",GEOGCS["GCS_North_American_1983",DATUM["D_North_American_1983",SPHEROID["GRS_1980",6378137.0,298.257222101]],PRIMEM["Greenwich",0.0],UNIT["Degree",0.0174532925199433]],PROJECTION["Transverse_Mercator"],PARAMETER["False_Easting",500000.0],PARAMETER["False_Northing",0.0],PARAMETER["Central_Meridian",-111.0],PARAMETER["Scale_Factor",0.9996],PARAMETER["Latitude_Of_Origin",0.0],UNIT["Meter",1.0],AUTHORITY["EPSG",26912]]</gco:CharacterString>
</gmd:code>
<gmd:version>
<gco:CharacterString>1</gco:CharacterString>
</gmd:version>
</gmd:RS_Identifier>
</gmd:referenceSystemIdentifier>
</gmd:MD_ReferenceSystem>
</gmd:referenceSystemInfo>
<dataIdInfo>
<envirDesc Sync="TRUE">Microsoft Windows 10 Version 10.0 (Build 22631) ; Esri ArcGIS 13.2.0.49743</envirDesc>
<dataLang>
<languageCode Sync="TRUE" value="eng"/>
<countryCode Sync="TRUE" value="USA"/>
</dataLang>
<idCitation>
<resTitle Sync="TRUE">BBRadiometrics_Dose</resTitle>
<presForm>
<PresFormCd Sync="TRUE" value="011"/>
</presForm>
</idCitation>
<spatRpType>
<SpatRepTypCd Sync="TRUE" value="002"/>
</spatRpType>
<dataExt>
<geoEle>
<GeoBndBox esriExtentType="search">
<exTypeCode Sync="TRUE">1</exTypeCode>
<westBL Sync="TRUE">-112.461081</westBL>
<eastBL Sync="TRUE">-111.566000</eastBL>
<northBL Sync="TRUE">46.571075</northBL>
<southBL Sync="TRUE">45.851235</southBL>
</GeoBndBox>
</geoEle>
</dataExt>
<idAbs/>
<idPurp/>
<idCredit/>
<resConst>
<Consts>
<useLimit/>
</Consts>
</resConst>
</dataIdInfo>
<mdLang>
<languageCode Sync="TRUE" value="eng"/>
<countryCode Sync="TRUE" value="USA"/>
</mdLang>
<Esri>
<DataProperties>
<itemProps>
<itemName Sync="TRUE">DBO.BBRadiometrics_Dose</itemName>
<imsContentType Sync="TRUE">002</imsContentType>
<nativeExtBox>
<westBL Sync="TRUE">-12519110.320114</westBL>
<eastBL Sync="TRUE">-12419470.320114</eastBL>
<southBL Sync="TRUE">5756541.541187</southBL>
<northBL Sync="TRUE">5872341.541187</northBL>
<exTypeCode Sync="TRUE">1</exTypeCode>
</nativeExtBox>
<itemLocation>
<linkage Sync="TRUE">Server=mbmgmapsql1a; Service=sde:sqlserver:mbmgmapsql1a; Database=MineralResources; Version=dbo.DEFAULT</linkage>
<protocol Sync="TRUE">ArcSDE Connection</protocol>
</itemLocation>
</itemProps>
<coordRef>
<type Sync="TRUE">Projected</type>
<geogcsn Sync="TRUE">GCS_WGS_1984</geogcsn>
<csUnits Sync="TRUE">Linear Unit: Meter (1.000000)</csUnits>
<projcsn Sync="TRUE">WGS_1984_Web_Mercator_Auxiliary_Sphere</projcsn>
<peXml Sync="TRUE">&lt;ProjectedCoordinateSystem xsi:type='typens:ProjectedCoordinateSystem' xmlns:xsi='http://www.w3.org/2001/XMLSchema-instance' xmlns:xs='http://www.w3.org/2001/XMLSchema' xmlns:typens='http://www.esri.com/schemas/ArcGIS/3.2.0'&gt;&lt;WKT&gt;PROJCS[&amp;quot;WGS_1984_Web_Mercator_Auxiliary_Sphere&amp;quot;,GEOGCS[&amp;quot;GCS_WGS_1984&amp;quot;,DATUM[&amp;quot;D_WGS_1984&amp;quot;,SPHEROID[&amp;quot;WGS_1984&amp;quot;,6378137.0,298.257223563]],PRIMEM[&amp;quot;Greenwich&amp;quot;,0.0],UNIT[&amp;quot;Degree&amp;quot;,0.0174532925199433]],PROJECTION[&amp;quot;Mercator_Auxiliary_Sphere&amp;quot;],PARAMETER[&amp;quot;False_Easting&amp;quot;,0.0],PARAMETER[&amp;quot;False_Northing&amp;quot;,0.0],PARAMETER[&amp;quot;Central_Meridian&amp;quot;,0.0],PARAMETER[&amp;quot;Standard_Parallel_1&amp;quot;,0.0],PARAMETER[&amp;quot;Auxiliary_Sphere_Type&amp;quot;,0.0],UNIT[&amp;quot;Meter&amp;quot;,1.0],AUTHORITY[&amp;quot;EPSG&amp;quot;,3857]]&lt;/WKT&gt;&lt;XOrigin&gt;-20037700&lt;/XOrigin&gt;&lt;YOrigin&gt;-30241100&lt;/YOrigin&gt;&lt;XYScale&gt;148923141.92838538&lt;/XYScale&gt;&lt;ZOrigin&gt;-100000&lt;/ZOrigin&gt;&lt;ZScale&gt;10000&lt;/ZScale&gt;&lt;MOrigin&gt;-100000&lt;/MOrigin&gt;&lt;MScale&gt;10000&lt;/MScale&gt;&lt;XYTolerance&gt;0.001&lt;/XYTolerance&gt;&lt;ZTolerance&gt;0.00020000000000000001&lt;/ZTolerance&gt;&lt;MTolerance&gt;0.00020000000000000001&lt;/MTolerance&gt;&lt;HighPrecision&gt;true&lt;/HighPrecision&gt;&lt;WKID&gt;102100&lt;/WKID&gt;&lt;LatestWKID&gt;3857&lt;/LatestWKID&gt;&lt;/ProjectedCoordinateSystem&gt;</peXml>
</coordRef>
<lineage>
<Process Date="20240117" Name="Project Raster" Time="143135" ToolSource="c:\program files\arcgis\pro\Resources\ArcToolbox\toolboxes\Data Management Tools.tbx\ProjectRaster">ProjectRaster M:\Master_Project_Workspace\Geophysics\GeophysicsWorkshop2024\AeromagData\EA_Conversion\EA_Conversion\ContractorsDeliverables_radiometrics\flt\Dose_version1.flt C:\Users\yli\Documents\ArcGIS\Default.gdb\Dose_version1_WGS84 PROJCS["WGS_1984_Web_Mercator_Auxiliary_Sphere",GEOGCS["GCS_WGS_1984",DATUM["D_WGS_1984",SPHEROID["WGS_1984",6378137.0,298.257223563]],PRIMEM["Greenwich",0.0],UNIT["Degree",0.0174532925199433]],PROJECTION["Mercator_Auxiliary_Sphere"],PARAMETER["False_Easting",0.0],PARAMETER["False_Northing",0.0],PARAMETER["Central_Meridian",0.0],PARAMETER["Standard_Parallel_1",0.0],PARAMETER["Auxiliary_Sphere_Type",0.0],UNIT["Meter",1.0]] "Nearest neighbor" "40 40" NAD_1983_To_WGS_1984_5 # PROJCS["NAD_1983_UTM_Zone_12N",GEOGCS["GCS_North_American_1983",DATUM["D_North_American_1983",SPHEROID["GRS_1980",6378137.0,298.257222101]],PRIMEM["Greenwich",0.0],UNIT["Degree",0.0174532925199433]],PROJECTION["Transverse_Mercator"],PARAMETER["False_Easting",500000.0],PARAMETER["False_Northing",0.0],PARAMETER["Central_Meridian",-111.0],PARAMETER["Scale_Factor",0.9996],PARAMETER["Latitude_Of_Origin",0.0],UNIT["Meter",1.0]] NO_VERTICAL</Process>
<Process Date="20240117" Time="143543" ToolSource="c:\program files\arcgis\pro\Resources\ArcToolbox\toolboxes\Data Management Tools.tbx\CopyMultiple">CopyMultiple "C:\Users\yli\Documents\ArcGIS\Default.gdb\Dose_version1_WGS84 RasterDataset;C:\Users\yli\Documents\ArcGIS\Default.gdb\Pot_version1_WGS84 RasterDataset;C:\Users\yli\Documents\ArcGIS\Default.gdb\RTK_version1_WGS84 RasterDataset;C:\Users\yli\Documents\ArcGIS\Default.gdb\RUK_version1_WGS84 RasterDataset;C:\Users\yli\Documents\ArcGIS\Default.gdb\RUT_version1_WGS84 RasterDataset;C:\Users\yli\Documents\ArcGIS\Default.gdb\Tho_version1_WGS84 RasterDataset;C:\Users\yli\Documents\ArcGIS\Default.gdb\Ura_version1_WGS84 RasterDataset" M:\Master_Project_Workspace\Geophysics\GeophysicsWorkshop2024\AeromagData\EA_Conversion\EA_Conversion\ContractorsDeliverables_radiometrics\radiometrics_WGS84.gdb Dose_version1_WGS84;Pot_version1_WGS84;RTK_version1_WGS84;RUK_version1_WGS84;RUT_version1_WGS84;Tho_version1_WGS84;Ura_version1_WGS84 "Dose_version1_WGS84 RasterDataset Dose_version1_WGS84 #;Pot_version1_WGS84 RasterDataset Pot_version1_WGS84 #;RTK_version1_WGS84 RasterDataset RTK_version1_WGS84 #;RUK_version1_WGS84 RasterDataset RUK_version1_WGS84 #;RUT_version1_WGS84 RasterDataset RUT_version1_WGS84 #;Tho_version1_WGS84 RasterDataset Tho_version1_WGS84 #;Ura_version1_WGS84 RasterDataset Ura_version1_WGS84 #"</Process>
<Process Date="20240229" Time="135451" ToolSource="c:\program files\arcgis\pro\Resources\ArcToolbox\toolboxes\Data Management Tools.tbx\CopyRaster">CopyRaster M:\Master_Project_Workspace\Geophysics\GeophysicsWorkshop2024\AeromagData\EA_Conversion\EA_Conversion\ContractorsDeliverables_radiometrics\radiometrics_WGS84.gdb\Dose_version1_WGS84 M:\Master_Project_Workspace\Geophysics\GeophysicsWorkshop2024\Maps\MineralResources.sde\DBO.BBRadiometrics_Dose # # # NONE NONE # NONE NONE "Esri Grid format" NONE CURRENT_SLICE NO_TRANSPOSE</Process>
</lineage>
</DataProperties>
<SyncDate>20240229</SyncDate>
<SyncTime>13545000</SyncTime>
<ModDate>20240229</ModDate>
<ModTime>13545000</ModTime>
</Esri>
<distInfo>
<distFormat>
<formatName Sync="TRUE">Enterprise Geodatabase Raster Dataset</formatName>
</distFormat>
</distInfo>
<mdHrLv>
<ScopeCd Sync="TRUE" value="005"/>
</mdHrLv>
<mdHrLvName Sync="TRUE">dataset</mdHrLvName>
<refSysInfo>
<RefSystem>
<refSysID>
<identCode Sync="TRUE" code="3857"/>
<idCodeSpace Sync="TRUE">EPSG</idCodeSpace>
<idVersion Sync="TRUE">6.18.3(9.3.1.2)</idVersion>
</refSysID>
</RefSystem>
</refSysInfo>
<spdoinfo>
<rastinfo>
<rasttype Sync="TRUE">Pixel</rasttype>
<rowcount Sync="TRUE">2895</rowcount>
<colcount Sync="TRUE">2491</colcount>
<rastxsz Sync="TRUE">40.000000</rastxsz>
<rastysz Sync="TRUE">40.000000</rastysz>
<rastbpp Sync="TRUE">32</rastbpp>
<vrtcount Sync="TRUE">1</vrtcount>
<rastorig Sync="TRUE">Upper Left</rastorig>
<rastcmap Sync="TRUE">FALSE</rastcmap>
<rastcomp Sync="TRUE">LZ77</rastcomp>
<rastband Sync="TRUE">1</rastband>
<rastdtyp Sync="TRUE">pixel codes</rastdtyp>
<rastifor Sync="TRUE">SDR</rastifor>
<rastplyr Sync="TRUE">TRUE</rastplyr>
</rastinfo>
</spdoinfo>
<spref>
<horizsys>
<planar>
<planci>
<plance Sync="TRUE">row and column</plance>
<coordrep>
<absres Sync="TRUE">40.000000</absres>
<ordres Sync="TRUE">40.000000</ordres>
</coordrep>
</planci>
</planar>
</horizsys>
</spref>
<mdDateSt Sync="TRUE">20240229</mdDateSt>
</gmd:MD_Metadata>
