<?xml version="1.0" encoding="UTF-8" standalone="no"?>
<metadata xml:lang="en">
<Esri>
<CreaDate>20240222</CreaDate>
<CreaTime>13163500</CreaTime>
<ArcGISFormat>1.0</ArcGISFormat>
<SyncOnce>FALSE</SyncOnce>
<DataProperties>
<lineage>
<Process Date="20240222" Time="131635" ToolSource="c:\program files\arcgis\pro\Resources\ArcToolbox\toolboxes\3D Analyst Tools.tbx\Lookup">Lookup MangedInfiltration_ClipFromInfiltration GeologicR H:\MAR\MAR_statewide\ManagedInfiltration_Suitability2\ManagedInfiltration_Suitability2.gdb\Geologic_Rating</Process>
<Process Date="20240227" Time="110716" ToolSource="c:\program files\arcgis\pro\Resources\ArcToolbox\toolboxes\Data Management Tools.tbx\CopyRaster">CopyRaster Geologic_Rating M:\Master_Project_Workspace\WaterResources\GWIP\ManagedInfiltration_Suitability\GDB\ManagedInfiltration_Suitability.gdb\Geologic_Rating # # # NONE NONE # NONE NONE "Esri Grid format" NONE CURRENT_SLICE NO_TRANSPOSE</Process>
<Process Date="20240227" Time="170221" ToolSource="c:\program files\arcgis\pro\Resources\ArcToolbox\Toolboxes\Data Management Tools.tbx\CopyMultiple">CopyMultiple "C:\ArcGIS_projects\Master_Feature_Services\WaterResources\MAR\ManagedInfiltration_Suitability\GDB\ManagedInfiltration_Suitability.gdb\DepthToWater_ft_bgs RasterDataset;C:\ArcGIS_projects\Master_Feature_Services\WaterResources\MAR\ManagedInfiltration_Suitability\GDB\ManagedInfiltration_Suitability.gdb\DepthToWater_Rating RasterDataset;C:\ArcGIS_projects\Master_Feature_Services\WaterResources\MAR\ManagedInfiltration_Suitability\GDB\ManagedInfiltration_Suitability.gdb\Geologic_Rating RasterDataset;C:\ArcGIS_projects\Master_Feature_Services\WaterResources\MAR\ManagedInfiltration_Suitability\GDB\ManagedInfiltration_Suitability.gdb\Geologic_Unit RasterDataset;C:\ArcGIS_projects\Master_Feature_Services\WaterResources\MAR\ManagedInfiltration_Suitability\GDB\ManagedInfiltration_Suitability.gdb\Infiltration_ft_day RasterDataset;C:\ArcGIS_projects\Master_Feature_Services\WaterResources\MAR\ManagedInfiltration_Suitability\GDB\ManagedInfiltration_Suitability.gdb\Infiltration_Rating RasterDataset;C:\ArcGIS_projects\Master_Feature_Services\WaterResources\MAR\ManagedInfiltration_Suitability\GDB\ManagedInfiltration_Suitability.gdb\Slope_degrees RasterDataset;C:\ArcGIS_projects\Master_Feature_Services\WaterResources\MAR\ManagedInfiltration_Suitability\GDB\ManagedInfiltration_Suitability.gdb\Slope_Rating RasterDataset;C:\ArcGIS_projects\Master_Feature_Services\WaterResources\MAR\ManagedInfiltration_Suitability\GDB\ManagedInfiltration_Suitability.gdb\Suitability RasterDataset" C:\ArcGIS_projects\Master_Feature_Services\WaterResources\MAR\ManagedInfiltration_Suitability\Map\WaterResources_OSAuthentication.sde DepthToWater_ft_bgs;DepthToWater_Rating;Geologic_Rating;Geologic_Unit;Infiltration_ft_day;Infiltration_Rating;Slope_degrees;Slope_Rating;Suitability "DepthToWater_ft_bgs RasterDataset DBO.DepthToWater_ft_bgs #;DepthToWater_Rating RasterDataset DBO.DepthToWater_Rating #;Geologic_Rating RasterDataset DBO.Geologic_Rating #;Geologic_Unit RasterDataset DBO.Geologic_Unit #;Infiltration_ft_day RasterDataset DBO.Infiltration_ft_day #;Infiltration_Rating RasterDataset DBO.Infiltration_Rating #;Slope_degrees RasterDataset DBO.Slope_degrees #;Slope_Rating RasterDataset DBO.Slope_Rating #;Suitability RasterDataset DBO.Suitability #"</Process>
<Process Date="20240227" Time="170325" ToolSource="c:\program files\arcgis\pro\Resources\ArcToolbox\Toolboxes\Data Management Tools.tbx\Rename">Rename C:\ArcGIS_projects\Master_Feature_Services\WaterResources\MAR\ManagedInfiltration_Suitability\Map\WaterResources_OSAuthentication.sde\DBO.Geologic_Rating C:\ArcGIS_projects\Master_Feature_Services\WaterResources\MAR\ManagedInfiltration_Suitability\Map\WaterResources_OSAuthentication.sde\DBO.MAR_Geologic_Rating RasterDataset</Process>
<Process Date="20240227" Time="170352" ToolSource="c:\program files\arcgis\pro\Resources\ArcToolbox\Toolboxes\Data Management Tools.tbx\Rename">Rename C:\ArcGIS_projects\Master_Feature_Services\WaterResources\MAR\ManagedInfiltration_Suitability\Map\WaterResources_OSAuthentication.sde\DBO.MAR_Geologic_Rating C:\ArcGIS_projects\Master_Feature_Services\WaterResources\MAR\ManagedInfiltration_Suitability\Map\WaterResources_OSAuthentication.sde\DBO.MAR_GeologicRating RasterDataset</Process>
</lineage>
<itemProps>
<itemName Sync="TRUE">Geologic_Rating</itemName>
<imsContentType Sync="TRUE">002</imsContentType>
<nativeExtBox>
<westBL Sync="TRUE">111865.999400</westBL>
<eastBL Sync="TRUE">1030197.890184</eastBL>
<southBL Sync="TRUE">17721.353600</southBL>
<northBL Sync="TRUE">547597.848742</northBL>
<exTypeCode Sync="TRUE">1</exTypeCode>
</nativeExtBox>
<itemLocation>
<linkage Sync="TRUE">file://\\mbmgs1a\Bureau\Master_Project_Workspace\WaterResources\GWIP\ManagedInfiltration_Suitability\GDB\ManagedInfiltration_Suitability.gdb</linkage>
<protocol Sync="TRUE">Local Area Network</protocol>
</itemLocation>
</itemProps>
<coordRef>
<type Sync="TRUE">Projected</type>
<geogcsn Sync="TRUE">GCS_North_American_1983</geogcsn>
<csUnits Sync="TRUE">Linear Unit: Meter (1.000000)</csUnits>
<projcsn Sync="TRUE">NAD_1983_StatePlane_Montana_FIPS_2500</projcsn>
<peXml Sync="TRUE">&lt;ProjectedCoordinateSystem xsi:type='typens:ProjectedCoordinateSystem' xmlns:xsi='http://www.w3.org/2001/XMLSchema-instance' xmlns:xs='http://www.w3.org/2001/XMLSchema' xmlns:typens='http://www.esri.com/schemas/ArcGIS/3.2.0'&gt;&lt;WKT&gt;PROJCS[&amp;quot;NAD_1983_StatePlane_Montana_FIPS_2500&amp;quot;,GEOGCS[&amp;quot;GCS_North_American_1983&amp;quot;,DATUM[&amp;quot;D_North_American_1983&amp;quot;,SPHEROID[&amp;quot;GRS_1980&amp;quot;,6378137.0,298.257222101]],PRIMEM[&amp;quot;Greenwich&amp;quot;,0.0],UNIT[&amp;quot;Degree&amp;quot;,0.0174532925199433]],PROJECTION[&amp;quot;Lambert_Conformal_Conic&amp;quot;],PARAMETER[&amp;quot;False_Easting&amp;quot;,600000.0],PARAMETER[&amp;quot;False_Northing&amp;quot;,0.0],PARAMETER[&amp;quot;Central_Meridian&amp;quot;,-109.5],PARAMETER[&amp;quot;Standard_Parallel_1&amp;quot;,45.0],PARAMETER[&amp;quot;Standard_Parallel_2&amp;quot;,49.0],PARAMETER[&amp;quot;Latitude_Of_Origin&amp;quot;,44.25],UNIT[&amp;quot;Meter&amp;quot;,1.0],AUTHORITY[&amp;quot;EPSG&amp;quot;,32100]]&lt;/WKT&gt;&lt;XOrigin&gt;-35666000&lt;/XOrigin&gt;&lt;YOrigin&gt;-30006900&lt;/YOrigin&gt;&lt;XYScale&gt;124182419.54917815&lt;/XYScale&gt;&lt;ZOrigin&gt;-100000&lt;/ZOrigin&gt;&lt;ZScale&gt;10000&lt;/ZScale&gt;&lt;MOrigin&gt;-100000&lt;/MOrigin&gt;&lt;MScale&gt;10000&lt;/MScale&gt;&lt;XYTolerance&gt;0.001&lt;/XYTolerance&gt;&lt;ZTolerance&gt;0.001&lt;/ZTolerance&gt;&lt;MTolerance&gt;0.001&lt;/MTolerance&gt;&lt;HighPrecision&gt;true&lt;/HighPrecision&gt;&lt;WKID&gt;32100&lt;/WKID&gt;&lt;LatestWKID&gt;32100&lt;/LatestWKID&gt;&lt;/ProjectedCoordinateSystem&gt;</peXml>
</coordRef>
</DataProperties>
<SyncDate>20240227</SyncDate>
<SyncTime>11071400</SyncTime>
<ModDate>20240227</ModDate>
<ModTime>11071400</ModTime>
</Esri>
<dataIdInfo>
<envirDesc Sync="TRUE">Microsoft Windows 10 Version 10.0 (Build 19045) ; Esri ArcGIS 13.2.0.49743</envirDesc>
<dataLang>
<languageCode Sync="TRUE" value="eng"/>
<countryCode Sync="TRUE" value="USA"/>
</dataLang>
<idCitation>
<resTitle Sync="TRUE">MAR_GeologicRating</resTitle>
<presForm>
<PresFormCd Sync="TRUE" value="011"/>
</presForm>
</idCitation>
<spatRpType>
<SpatRepTypCd Sync="TRUE" value="002"/>
</spatRpType>
<dataExt>
<geoEle>
<GeoBndBox esriExtentType="search">
<exTypeCode Sync="TRUE">1</exTypeCode>
<westBL Sync="TRUE">-116.177886</westBL>
<eastBL Sync="TRUE">-103.611523</eastBL>
<northBL Sync="TRUE">49.177402</northBL>
<southBL Sync="TRUE">44.237967</southBL>
</GeoBndBox>
</geoEle>
</dataExt>
<idAbs>This data is considered draft and in formal review. Edits will be pending. Not for public consumptive use until formally published. </idAbs>
<idPurp/>
<idCredit/>
<resConst>
<Consts>
<useLimit>Not for public consumptive use until formally published. </useLimit>
</Consts>
</resConst>
<searchKeys>
<keyword/>
</searchKeys>
</dataIdInfo>
<mdLang>
<languageCode Sync="TRUE" value="eng"/>
<countryCode Sync="TRUE" value="USA"/>
</mdLang>
<distInfo>
<distFormat>
<formatName Sync="TRUE">File Geodatabase Raster Dataset</formatName>
</distFormat>
</distInfo>
<mdHrLv>
<ScopeCd Sync="TRUE" value="005"/>
</mdHrLv>
<mdHrLvName Sync="TRUE">dataset</mdHrLvName>
<refSysInfo>
<RefSystem>
<refSysID>
<identCode Sync="TRUE" code="32100"/>
<idCodeSpace Sync="TRUE">EPSG</idCodeSpace>
<idVersion Sync="TRUE">4.5(3.0.1)</idVersion>
</refSysID>
</RefSystem>
</refSysInfo>
<spdoinfo>
<rastinfo>
<rasttype Sync="TRUE">Pixel</rasttype>
<rowcount Sync="TRUE">5268</rowcount>
<colcount Sync="TRUE">9130</colcount>
<rastxsz Sync="TRUE">100.583997</rastxsz>
<rastysz Sync="TRUE">100.583997</rastysz>
<rastbpp Sync="TRUE">8</rastbpp>
<vrtcount Sync="TRUE">1</vrtcount>
<rastorig Sync="TRUE">Upper Left</rastorig>
<rastcmap Sync="TRUE">FALSE</rastcmap>
<rastcomp Sync="TRUE">LZ77</rastcomp>
<rastband Sync="TRUE">1</rastband>
<rastdtyp Sync="TRUE">pixel codes</rastdtyp>
<rastifor Sync="TRUE">FGDBR</rastifor>
<rastplyr Sync="TRUE">TRUE</rastplyr>
</rastinfo>
</spdoinfo>
<spref>
<horizsys>
<planar>
<planci>
<plance Sync="TRUE">row and column</plance>
<coordrep>
<absres Sync="TRUE">100.583997</absres>
<ordres Sync="TRUE">100.583997</ordres>
</coordrep>
</planci>
</planar>
</horizsys>
</spref>
<eainfo>
<detailed Name="VAT_Geologic_Rating">
<enttyp>
<enttypl Sync="TRUE">VAT_Geologic_Rating</enttypl>
<enttypt Sync="TRUE">Table</enttypt>
<enttypc Sync="TRUE">6</enttypc>
</enttyp>
<attr>
<attrlabl Sync="TRUE">OBJECTID</attrlabl>
<attalias Sync="TRUE">OBJECTID</attalias>
<attrtype Sync="TRUE">OID</attrtype>
<attwidth Sync="TRUE">4</attwidth>
<atprecis Sync="TRUE">0</atprecis>
<attscale Sync="TRUE">0</attscale>
<attrdef Sync="TRUE">Internal feature number.</attrdef>
<attrdefs Sync="TRUE">Esri</attrdefs>
<attrdomv>
<udom Sync="TRUE">Sequential unique whole numbers that are automatically generated.</udom>
</attrdomv>
</attr>
<attr>
<attrlabl Sync="TRUE">Value</attrlabl>
<attalias Sync="TRUE">Value</attalias>
<attrtype Sync="TRUE">Integer</attrtype>
<attwidth Sync="TRUE">4</attwidth>
<atprecis Sync="TRUE">0</atprecis>
<attscale Sync="TRUE">0</attscale>
</attr>
<attr>
<attrlabl Sync="TRUE">Count</attrlabl>
<attalias Sync="TRUE">Count</attalias>
<attrtype Sync="TRUE">Double</attrtype>
<attwidth Sync="TRUE">8</attwidth>
<atprecis Sync="TRUE">0</atprecis>
<attscale Sync="TRUE">0</attscale>
</attr>
</detailed>
</eainfo>
<mdDateSt Sync="TRUE">20240227</mdDateSt>
</metadata>
