View In:
ArcGIS JavaScript
ArcGIS Online Map Viewer
ArcGIS Earth
Service Description: Energy_Resources/DBO_GeothermGradCorrIDW4000
Name: Energy_Resources/DBO_GeothermGradCorrIDW4000
Description:
Single Fused Map Cache: false
Extent:
XMin: 187999.00410000235
YMin: 31809.444499999285
XMax: 1027999.0041000023
YMax: 541809.4444999993
Spatial Reference: 32100
(32100)
Initial Extent:
XMin: 187999.00410000235
YMin: 31809.444499999285
XMax: 1027999.0041000023
YMax: 541809.4444999993
Spatial Reference: 32100
(32100)
Full Extent:
XMin: 187999.00410000235
YMin: 31809.444499999285
XMax: 1027999.0041000023
YMax: 541809.4444999993
Spatial Reference: 32100
(32100)
Pixel Size X: 10000.0
Pixel Size Y: 10000.0
Band Count: 1
Pixel Type: F32
RasterFunction Infos: {"rasterFunctionInfos": [{
"help": "",
"name": "None",
"description": ""
}]}
Mensuration Capabilities: Basic
Inspection Capabilities:
Has Histograms: true
Has Colormap: false
Has Multi Dimensions : false
Rendering Rule:
Min Scale: 0
Max Scale: 0
Copyright Text:
Service Data Type: esriImageServiceDataTypeGeneric
Min Values: 0.99970614910125732
Max Values: 2.6661009788513184
Mean Values: 1.7006693561847661
Standard Deviation Values: 0.21285670804051571
Object ID Field:
Fields:
None
Default Mosaic Method: Center
Allowed Mosaic Methods:
SortField:
SortValue: N/A
Mosaic Operator: First
Default Compression Quality: 75
Default Resampling Method: Bilinear
Max Record Count: null
Max Image Height: 4100
Max Image Width: 15000
Max Download Image Count: null
Max Mosaic Image Count: null
Allow Raster Function: true
Allow Copy: true
Allow Analysis: true
Allow Compute TiePoints: false
Supports Statistics: false
Supports Advanced Queries: false
Use StandardizedQueries: false
Raster Type Infos:
Name: Raster Dataset
Description: Supports all ArcGIS Raster Datasets
Help:
Has Raster Attribute Table: false
Edit Fields Info: N/A
Ownership Based AccessControl For Rasters: N/A
Child Resources:
Info
Histograms
Statistics
Key Properties
Legend
Raster Function Infos
Supported Operations:
Export Image
Identify
Measure
Compute Histograms
Compute Statistics Histograms
Get Samples
Compute Class Statistics
Query Boundary
Compute Pixel Location
Compute Angles
Validate
Project