View In:
ArcGIS JavaScript
ArcGIS Online Map Viewer
ArcGIS Earth
Service Description: Energy_Resources/Geothermal_IDW_DSTWells_TempF8k
Name: Energy_Resources/Geothermal_IDW_DSTWells_TempF8k
Description:
Single Fused Map Cache: false
Extent:
XMin: 281637.32869999856
YMin: 36169.544100001454
XMax: 1021637.3286999986
YMax: 546169.5441000015
Spatial Reference: 32100
(32100)
Initial Extent:
XMin: 281637.32869999856
YMin: 36169.544100001454
XMax: 1021637.3286999986
YMax: 546169.5441000015
Spatial Reference: 32100
(32100)
Full Extent:
XMin: 281637.32869999856
YMin: 36169.544100001454
XMax: 1021637.3286999986
YMax: 546169.5441000015
Spatial Reference: 32100
(32100)
Pixel Size X: 10000.0
Pixel Size Y: 10000.0
Band Count: 1
Pixel Type: F32
RasterFunction Infos: {"rasterFunctionInfos": [{
"help": "",
"name": "None",
"description": ""
}]}
Mensuration Capabilities: Basic
Inspection Capabilities:
Has Histograms: true
Has Colormap: false
Has Multi Dimensions : false
Rendering Rule:
Min Scale: 0
Max Scale: 0
Copyright Text:
Service Data Type: esriImageServiceDataTypeGeneric
Min Values: 90.21270751953125
Max Values: 295.523681640625
Mean Values: 180.5717064069577
Standard Deviation Values: 24.440054498155952
Object ID Field:
Fields:
None
Default Mosaic Method: Center
Allowed Mosaic Methods:
SortField:
SortValue: N/A
Mosaic Operator: First
Default Compression Quality: 75
Default Resampling Method: Bilinear
Max Record Count: null
Max Image Height: 4100
Max Image Width: 15000
Max Download Image Count: null
Max Mosaic Image Count: null
Allow Raster Function: true
Allow Copy: true
Allow Analysis: true
Allow Compute TiePoints: false
Supports Statistics: false
Supports Advanced Queries: false
Use StandardizedQueries: false
Raster Type Infos:
Name: Raster Dataset
Description: Supports all ArcGIS Raster Datasets
Help:
Has Raster Attribute Table: false
Edit Fields Info: N/A
Ownership Based AccessControl For Rasters: N/A
Child Resources:
Info
Histograms
Statistics
Key Properties
Legend
Raster Function Infos
Supported Operations:
Export Image
Identify
Measure
Compute Histograms
Compute Statistics Histograms
Get Samples
Compute Class Statistics
Query Boundary
Compute Pixel Location
Compute Angles
Validate
Project