View In:
ArcGIS JavaScript
ArcGIS Online Map Viewer
ArcGIS Earth
Service Description: Energy_Resources/Geothermal_IDW_OGWells_TempF10k
Name: Energy_Resources/Geothermal_IDW_OGWells_TempF10k
Description:
Single Fused Map Cache: false
Extent:
XMin: 187925.02130000293
YMin: 31802.71009999886
XMax: 1027925.0213000029
YMax: 541802.7100999989
Spatial Reference: 32100
(32100)
Initial Extent:
XMin: 187925.02130000293
YMin: 31802.71009999886
XMax: 1027925.0213000029
YMax: 541802.7100999989
Spatial Reference: 32100
(32100)
Full Extent:
XMin: 187925.02130000293
YMin: 31802.71009999886
XMax: 1027925.0213000029
YMax: 541802.7100999989
Spatial Reference: 32100
(32100)
Pixel Size X: 10000.0
Pixel Size Y: 10000.0
Band Count: 1
Pixel Type: F32
RasterFunction Infos: {"rasterFunctionInfos": [{
"help": "",
"name": "None",
"description": ""
}]}
Mensuration Capabilities: Basic
Inspection Capabilities:
Has Histograms: true
Has Colormap: false
Has Multi Dimensions : false
Rendering Rule:
Min Scale: 0
Max Scale: 0
Copyright Text:
Service Data Type: esriImageServiceDataTypeGeneric
Min Values: 77.947525024414062
Max Values: 349.59039306640625
Mean Values: 207.22878993058404
Standard Deviation Values: 24.729569031805148
Object ID Field:
Fields:
None
Default Mosaic Method: Center
Allowed Mosaic Methods:
SortField:
SortValue: N/A
Mosaic Operator: First
Default Compression Quality: 75
Default Resampling Method: Bilinear
Max Record Count: null
Max Image Height: 4100
Max Image Width: 15000
Max Download Image Count: null
Max Mosaic Image Count: null
Allow Raster Function: true
Allow Copy: true
Allow Analysis: true
Allow Compute TiePoints: false
Supports Statistics: false
Supports Advanced Queries: false
Use StandardizedQueries: false
Raster Type Infos:
Name: Raster Dataset
Description: Supports all ArcGIS Raster Datasets
Help:
Has Raster Attribute Table: false
Edit Fields Info: N/A
Ownership Based AccessControl For Rasters: N/A
Child Resources:
Info
Histograms
Statistics
Key Properties
Legend
Raster Function Infos
Supported Operations:
Export Image
Identify
Measure
Compute Histograms
Compute Statistics Histograms
Get Samples
Compute Class Statistics
Query Boundary
Compute Pixel Location
Compute Angles
Validate
Project