View In:
ArcGIS JavaScript
ArcGIS Online Map Viewer
ArcGIS Earth
Service Description: Energy_Resources/MT_CrazyMtnsBasinMap
Name: Energy_Resources/MT_CrazyMtnsBasinMap
Description:
Single Fused Map Cache: false
Extent:
XMin: 459733.2797211622
YMin: 63602.533897541754
XMax: 680883.1201548964
YMax: 257154.80407460438
Spatial Reference: 32100
(32100)
Initial Extent:
XMin: 459733.2797211622
YMin: 63602.533897541754
XMax: 680883.1201548964
YMax: 257154.80407460438
Spatial Reference: 32100
(32100)
Full Extent:
XMin: 459733.2797211622
YMin: 63602.533897541754
XMax: 680883.1201548964
YMax: 257154.80407460438
Spatial Reference: 32100
(32100)
Pixel Size X: 145.58909837638853
Pixel Size Y: 146.40867638204435
Band Count: 3
Pixel Type: U8
RasterFunction Infos: {"rasterFunctionInfos": [{
"help": "",
"name": "None",
"description": ""
}]}
Mensuration Capabilities: Basic
Inspection Capabilities:
Has Histograms: true
Has Colormap: false
Has Multi Dimensions : false
Rendering Rule:
Min Scale: 0
Max Scale: 0
Copyright Text:
Service Data Type: esriImageServiceDataTypeRGB
Min Values: 0, 0, 0
Max Values: 255, 255, 255
Mean Values: 205.37389067006006, 203.16870310653698, 182.41924133125102
Standard Deviation Values: 76.61690056213159, 73.89719364823074, 87.374883072993867
Object ID Field:
Fields:
None
Default Mosaic Method: Center
Allowed Mosaic Methods:
SortField:
SortValue: N/A
Mosaic Operator: First
Default Compression Quality: 75
Default Resampling Method: Bilinear
Max Record Count: null
Max Image Height: 4100
Max Image Width: 15000
Max Download Image Count: null
Max Mosaic Image Count: null
Allow Raster Function: true
Allow Copy: true
Allow Analysis: true
Allow Compute TiePoints: false
Supports Statistics: false
Supports Advanced Queries: false
Use StandardizedQueries: false
Raster Type Infos:
Name: Raster Dataset
Description: Supports all ArcGIS Raster Datasets
Help:
Has Raster Attribute Table: false
Edit Fields Info: N/A
Ownership Based AccessControl For Rasters: N/A
Child Resources:
Info
Histograms
Statistics
Key Properties
Legend
Raster Function Infos
Supported Operations:
Export Image
Identify
Measure
Compute Histograms
Compute Statistics Histograms
Get Samples
Compute Class Statistics
Query Boundary
Compute Pixel Location
Compute Angles
Validate
Project