View In:
ArcGIS JavaScript
ArcGIS Online Map Viewer
ArcGIS Earth
Service Description: Energy_Resources/MT_PreCambrianFaultsGeology
Name: Energy_Resources/MT_PreCambrianFaultsGeology
Description:
Single Fused Map Cache: false
Extent:
XMin: 97493.7254132859
YMin: 5207.885533081368
XMax: 1042987.7188025706
YMax: 560261.9475808964
Spatial Reference: 32100
(32100)
Initial Extent:
XMin: 97493.7254132859
YMin: 5207.885533081368
XMax: 1042987.7188025706
YMax: 560261.9475808964
Spatial Reference: 32100
(32100)
Full Extent:
XMin: 97493.7254132859
YMin: 5207.885533081368
XMax: 1042987.7188025706
YMax: 560261.9475808964
Spatial Reference: 32100
(32100)
Pixel Size X: 126.86086051110757
Pixel Size Y: 127.68669474299864
Band Count: 4
Pixel Type: F32
RasterFunction Infos: {"rasterFunctionInfos": [{
"help": "",
"name": "None",
"description": ""
}]}
Mensuration Capabilities: Basic
Inspection Capabilities:
Has Histograms: true
Has Colormap: false
Has Multi Dimensions : false
Rendering Rule:
Min Scale: 0
Max Scale: 0
Copyright Text:
Service Data Type: esriImageServiceDataTypeGeneric
Min Values: 0, 0, 0, 0
Max Values: 255, 255, 255, 255
Mean Values: 226.70327592183358, 215.48839565254542, 196.38112147226011, 211.03584110419507
Standard Deviation Values: 38.917106849319516, 40.712084969986073, 51.494688064042037, 51.3133471568147
Object ID Field:
Fields:
None
Default Mosaic Method: Center
Allowed Mosaic Methods:
SortField:
SortValue: N/A
Mosaic Operator: First
Default Compression Quality: 75
Default Resampling Method: Bilinear
Max Record Count: null
Max Image Height: 4100
Max Image Width: 15000
Max Download Image Count: null
Max Mosaic Image Count: null
Allow Raster Function: true
Allow Copy: true
Allow Analysis: true
Allow Compute TiePoints: false
Supports Statistics: false
Supports Advanced Queries: false
Use StandardizedQueries: false
Raster Type Infos:
Name: Raster Dataset
Description: Supports all ArcGIS Raster Datasets
Help:
Has Raster Attribute Table: false
Edit Fields Info: N/A
Ownership Based AccessControl For Rasters: N/A
Child Resources:
Info
Histograms
Statistics
Key Properties
Legend
Raster Function Infos
Supported Operations:
Export Image
Identify
Measure
Compute Histograms
Compute Statistics Histograms
Get Samples
Compute Class Statistics
Query Boundary
Compute Pixel Location
Compute Angles
Validate
Project