View In:
ArcGIS JavaScript
ArcGIS Online Map Viewer
ArcGIS Earth
Service Description: Geohazards/LandslideModelPOC_JeffCo_SM_V1
Name: Geohazards/LandslideModelPOC_JeffCo_SM_V1
Description:
Single Fused Map Cache: false
Extent:
XMin: 357627.65630000085
YMin: 167626.0625
XMax: 435397.65630000085
YMax: 263266.0625
Spatial Reference: 32100
(32100)
Initial Extent:
XMin: 357627.65630000085
YMin: 167626.0625
XMax: 435397.65630000085
YMax: 263266.0625
Spatial Reference: 32100
(32100)
Full Extent:
XMin: 357627.65630000085
YMin: 167626.0625
XMax: 435397.65630000085
YMax: 263266.0625
Spatial Reference: 32100
(32100)
Pixel Size X: 10.0
Pixel Size Y: 10.0
Band Count: 1
Pixel Type: F32
RasterFunction Infos: {"rasterFunctionInfos": [{
"help": "",
"name": "None",
"description": ""
}]}
Mensuration Capabilities: Basic
Inspection Capabilities:
Has Histograms: true
Has Colormap: false
Has Multi Dimensions : false
Rendering Rule:
Min Scale: 0
Max Scale: 0
Copyright Text:
Service Data Type: esriImageServiceDataTypeGeneric
Min Values: 9
Max Values: 62
Mean Values: 33.005076029695523
Standard Deviation Values: 7.3423868440827471
Object ID Field:
Fields:
None
Default Mosaic Method: Center
Allowed Mosaic Methods:
SortField:
SortValue: N/A
Mosaic Operator: First
Default Compression Quality: 75
Default Resampling Method: Bilinear
Max Record Count: null
Max Image Height: 4100
Max Image Width: 15000
Max Download Image Count: null
Max Mosaic Image Count: null
Allow Raster Function: true
Allow Copy: true
Allow Analysis: true
Allow Compute TiePoints: false
Supports Statistics: false
Supports Advanced Queries: false
Use StandardizedQueries: false
Raster Type Infos:
Name: Raster Dataset
Description: Supports all ArcGIS Raster Datasets
Help:
Has Raster Attribute Table: false
Edit Fields Info: N/A
Ownership Based AccessControl For Rasters: N/A
Child Resources:
Info
Histograms
Statistics
Key Properties
Legend
Raster Function Infos
Supported Operations:
Export Image
Identify
Measure
Compute Histograms
Compute Statistics Histograms
Get Samples
Compute Class Statistics
Query Boundary
Compute Pixel Location
Compute Angles
Validate
Project