View In:
ArcGIS JavaScript
ArcGIS Online Map Viewer
ArcGIS Earth
Service Description: MT_PreCambrianFaultsMagnetics
Name: MT_PreCambrianFaultsMagnetics
Description:
Single Fused Map Cache: false
Extent:
XMin: 39610.717459405234
YMin: -17997.616760598845
XMax: 1074641.131378969
YMax: 583984.0518109761
Spatial Reference: 32100
(32100)
Initial Extent:
XMin: 39610.717459405234
YMin: -17997.616760598845
XMax: 1074641.131378969
YMax: 583984.0518109761
Spatial Reference: 32100
(32100)
Full Extent:
XMin: 39610.717459405234
YMin: -17997.616760598845
XMax: 1074641.131378969
YMax: 583984.0518109761
Spatial Reference: 32100
(32100)
Pixel Size X: 1160.3479976676724
Pixel Size Y: 1201.5602167097304
Band Count: 3
Pixel Type: F32
RasterFunction Infos: {"rasterFunctionInfos": [{
"help": "",
"name": "None",
"description": ""
}]}
Mensuration Capabilities: Basic
Inspection Capabilities:
Has Histograms: true
Has Colormap: false
Has Multi Dimensions : false
Rendering Rule:
Min Scale: 0
Max Scale: 0
Copyright Text:
Service Data Type: esriImageServiceDataTypeGeneric
Min Values: 0, 0, 0
Max Values: 255, 255, 255
Mean Values: 112.2920208920395, 121.84599756148191, 113.68640784652447
Standard Deviation Values: 95.896471349293719, 82.134942241413214, 78.046749135291364
Object ID Field:
Fields:
None
Default Mosaic Method: Center
Allowed Mosaic Methods:
SortField:
SortValue: N/A
Mosaic Operator: First
Default Compression Quality: 75
Default Resampling Method: Bilinear
Max Record Count: null
Max Image Height: 4100
Max Image Width: 15000
Max Download Image Count: null
Max Mosaic Image Count: null
Allow Raster Function: true
Allow Copy: true
Allow Analysis: true
Allow Compute TiePoints: false
Supports Statistics: false
Supports Advanced Queries: false
Use StandardizedQueries: false
Raster Type Infos:
Name: Raster Dataset
Description: Supports all ArcGIS Raster Datasets
Help:
Has Raster Attribute Table: false
Edit Fields Info: N/A
Ownership Based AccessControl For Rasters: N/A
Child Resources:
Info
Histograms
Statistics
Key Properties
Legend
Raster Function Infos
Supported Operations:
Export Image
Identify
Measure
Compute Histograms
Compute Statistics Histograms
Get Samples
Compute Class Statistics
Query Boundary
Compute Pixel Location
Compute Angles
Validate
Project