View In:
ArcGIS JavaScript
ArcGIS Online Map Viewer
ArcGIS Earth
Service Description: Mineral_Resources/BBMagnetics_TotalMagField
Name: Mineral_Resources/BBMagnetics_TotalMagField
Description:
Single Fused Map Cache: false
Extent:
XMin: -1.2536189477341153E7
YMin: 5751151.290909118
XMax: -1.242013580779045E7
YMax: 5872874.812266831
Spatial Reference: 102100
(3857)
Initial Extent:
XMin: -1.2536189477341153E7
YMin: 5751151.290909118
XMax: -1.242013580779045E7
YMax: 5872874.812266831
Spatial Reference: 102100
(3857)
Full Extent:
XMin: -1.2536189477341153E7
YMin: 5751151.290909118
XMax: -1.242013580779045E7
YMax: 5872874.812266831
Spatial Reference: 102100
(3857)
Pixel Size X: 33.874392746848216
Pixel Size Y: 33.98199926234318
Band Count: 4
Pixel Type: U8
RasterFunction Infos: {"rasterFunctionInfos": [{
"help": "",
"name": "None",
"description": ""
}]}
Mensuration Capabilities: Basic
Inspection Capabilities:
Has Histograms: true
Has Colormap: false
Has Multi Dimensions : false
Rendering Rule:
Min Scale: 0
Max Scale: 0
Copyright Text:
Service Data Type: esriImageServiceDataTypeGeneric
Min Values: 0, 0, 0, 255
Max Values: 255, 255, 255, 255
Mean Values: 160.47152849031795, 168.03801493913343, 126.34065716401643, 255
Standard Deviation Values: 105.2235309542591, 98.141270867983152, 118.58019233295747, 0
Object ID Field:
Fields:
None
Default Mosaic Method: Center
Allowed Mosaic Methods:
SortField:
SortValue: N/A
Mosaic Operator: First
Default Compression Quality: 75
Default Resampling Method: Bilinear
Max Record Count: null
Max Image Height: 4100
Max Image Width: 15000
Max Download Image Count: null
Max Mosaic Image Count: null
Allow Raster Function: true
Allow Copy: false
Allow Analysis: false
Allow Compute TiePoints: false
Supports Statistics: false
Supports Advanced Queries: false
Use StandardizedQueries: false
Raster Type Infos:
Name: Raster Dataset
Description: Supports all ArcGIS Raster Datasets
Help:
Has Raster Attribute Table: false
Edit Fields Info: N/A
Ownership Based AccessControl For Rasters: N/A
Child Resources:
Info
Histograms
Statistics
Key Properties
Legend
Raster Function Infos
Supported Operations:
Export Image
Identify
Measure
Compute Histograms
Compute Statistics Histograms
Get Samples
Compute Class Statistics
Query Boundary
Compute Pixel Location
Compute Angles
Validate
Project