View In:
ArcGIS JavaScript
ArcGIS Online Map Viewer
ArcGIS Earth
Service Description: Mineral_Resources/BBRadiometrics_K_Th_U
Name: Mineral_Resources/BBRadiometrics_K_Th_U
Description:
Single Fused Map Cache: false
Extent:
XMin: -1.2522249098893503E7
YMin: 5751036.376545148
XMax: -1.2411904842537003E7
YMax: 5873510.091734345
Spatial Reference: 102100
(3857)
Initial Extent:
XMin: -1.2522249098893503E7
YMin: 5751036.376545148
XMax: -1.2411904842537003E7
YMax: 5873510.091734345
Spatial Reference: 102100
(3857)
Full Extent:
XMin: -1.2522249098893503E7
YMin: 5751036.376545148
XMax: -1.2411904842537003E7
YMax: 5873510.091734345
Spatial Reference: 102100
(3857)
Pixel Size X: 33.437653441363665
Pixel Size Y: 34.07727189460131
Band Count: 4
Pixel Type: U8
RasterFunction Infos: {"rasterFunctionInfos": [{
"help": "",
"name": "None",
"description": ""
}]}
Mensuration Capabilities: Basic
Inspection Capabilities:
Has Histograms: true
Has Colormap: false
Has Multi Dimensions : false
Rendering Rule:
Min Scale: 0
Max Scale: 0
Copyright Text:
Service Data Type: esriImageServiceDataTypeGeneric
Min Values: 0, 0, 0, 255
Max Values: 255, 255, 255, 255
Mean Values: 164.26592465452308, 164.19218666453554, 163.83274849188734, 255
Standard Deviation Values: 92.165941196179233, 92.196065200551828, 92.500323198750181, 0
Object ID Field:
Fields:
None
Default Mosaic Method: Center
Allowed Mosaic Methods:
SortField:
SortValue: N/A
Mosaic Operator: First
Default Compression Quality: 75
Default Resampling Method: Bilinear
Max Record Count: null
Max Image Height: 4100
Max Image Width: 15000
Max Download Image Count: null
Max Mosaic Image Count: null
Allow Raster Function: true
Allow Copy: false
Allow Analysis: false
Allow Compute TiePoints: false
Supports Statistics: false
Supports Advanced Queries: false
Use StandardizedQueries: false
Raster Type Infos:
Name: Raster Dataset
Description: Supports all ArcGIS Raster Datasets
Help:
Has Raster Attribute Table: false
Edit Fields Info: N/A
Ownership Based AccessControl For Rasters: N/A
Child Resources:
Info
Histograms
Statistics
Key Properties
Legend
Raster Function Infos
Supported Operations:
Export Image
Identify
Measure
Compute Histograms
Compute Statistics Histograms
Get Samples
Compute Class Statistics
Query Boundary
Compute Pixel Location
Compute Angles
Validate
Project