View In:
ArcGIS JavaScript
ArcGIS Online Map Viewer
ArcGIS Earth
Service Description: Mineral_Resources/BBRadiometrics_Ratio_U_Th
Name: Mineral_Resources/BBRadiometrics_Ratio_U_Th
Description:
Single Fused Map Cache: false
Extent:
XMin: -1.2519110320114238E7
YMin: 5756541.541186765
XMax: -1.2419470320114238E7
YMax: 5872341.541186765
Spatial Reference: 102100
(3857)
Initial Extent:
XMin: -1.2519110320114238E7
YMin: 5756541.541186765
XMax: -1.2419470320114238E7
YMax: 5872341.541186765
Spatial Reference: 102100
(3857)
Full Extent:
XMin: -1.2519110320114238E7
YMin: 5756541.541186765
XMax: -1.2419470320114238E7
YMax: 5872341.541186765
Spatial Reference: 102100
(3857)
Pixel Size X: 40.0
Pixel Size Y: 40.0
Band Count: 1
Pixel Type: F32
RasterFunction Infos: {"rasterFunctionInfos": [{
"help": "",
"name": "None",
"description": ""
}]}
Mensuration Capabilities: Basic
Inspection Capabilities:
Has Histograms: true
Has Colormap: false
Has Multi Dimensions : false
Rendering Rule:
Min Scale: 0
Max Scale: 0
Copyright Text:
Service Data Type: esriImageServiceDataTypeGeneric
Min Values: 0.075935117900371552
Max Values: 1.1969107389450073
Mean Values: 0.21243667753218476
Standard Deviation Values: 0.055189487657080434
Object ID Field:
Fields:
None
Default Mosaic Method: Center
Allowed Mosaic Methods:
SortField:
SortValue: N/A
Mosaic Operator: First
Default Compression Quality: 75
Default Resampling Method: Bilinear
Max Record Count: null
Max Image Height: 4100
Max Image Width: 15000
Max Download Image Count: null
Max Mosaic Image Count: null
Allow Raster Function: true
Allow Copy: true
Allow Analysis: false
Allow Compute TiePoints: false
Supports Statistics: false
Supports Advanced Queries: false
Use StandardizedQueries: false
Raster Type Infos:
Name: Raster Dataset
Description: Supports all ArcGIS Raster Datasets
Help:
Has Raster Attribute Table: false
Edit Fields Info: N/A
Ownership Based AccessControl For Rasters: N/A
Child Resources:
Info
Histograms
Statistics
Key Properties
Legend
Raster Function Infos
Supported Operations:
Export Image
Identify
Measure
Compute Histograms
Compute Statistics Histograms
Get Samples
Compute Class Statistics
Query Boundary
Compute Pixel Location
Compute Angles
Validate
Project