View In:
ArcGIS JavaScript
ArcGIS Online Map Viewer
ArcGIS Earth
Service Description: Water_Resources/MAR_ASR_FlatheadValley_VerticalConfinementRating
Name: Water_Resources/MAR_ASR_FlatheadValley_VerticalConfinementRating
Description:
Single Fused Map Cache: false
Extent:
XMin: 229153.74309999705
YMin: 432404.74880001316
XMax: 270091.43109999807
YMax: 476862.8768000013
Spatial Reference: 32100
(32100)
Initial Extent:
XMin: 229153.74309999705
YMin: 432404.74880001316
XMax: 270091.43109999807
YMax: 476862.8768000013
Spatial Reference: 32100
(32100)
Full Extent:
XMin: 229153.74309999705
YMin: 432404.74880001316
XMax: 270091.43109999807
YMax: 476862.8768000013
Spatial Reference: 32100
(32100)
Pixel Size X: 100.58400000000249
Pixel Size Y: 100.58399999997319
Band Count: 1
Pixel Type: S32
RasterFunction Infos: {"rasterFunctionInfos": [{
"help": "",
"name": "None",
"description": ""
}]}
Mensuration Capabilities: Basic
Inspection Capabilities:
Has Histograms: true
Has Colormap: false
Has Multi Dimensions : false
Rendering Rule:
Min Scale: 0
Max Scale: 0
Copyright Text:
Service Data Type: esriImageServiceDataTypeGeneric
Min Values: 0
Max Values: 100
Mean Values: 51.323494700401262
Standard Deviation Values: 36.328346634680003
Object ID Field:
Fields:
None
Default Mosaic Method: Center
Allowed Mosaic Methods:
SortField:
SortValue: N/A
Mosaic Operator: First
Default Compression Quality: 75
Default Resampling Method: Bilinear
Max Record Count: null
Max Image Height: 4100
Max Image Width: 15000
Max Download Image Count: null
Max Mosaic Image Count: null
Allow Raster Function: true
Allow Copy: true
Allow Analysis: true
Allow Compute TiePoints: false
Supports Statistics: false
Supports Advanced Queries: false
Use StandardizedQueries: false
Raster Type Infos:
Name: Raster Dataset
Description: Supports all ArcGIS Raster Datasets
Help:
Has Raster Attribute Table: true
Edit Fields Info: N/A
Ownership Based AccessControl For Rasters: N/A
Child Resources:
Info
Raster Attribute Table
Histograms
Statistics
Key Properties
Legend
Raster Function Infos
Supported Operations:
Export Image
Identify
Measure
Compute Histograms
Compute Statistics Histograms
Get Samples
Compute Class Statistics
Query Boundary
Compute Pixel Location
Compute Angles
Validate
Project