View In:
ArcGIS JavaScript
ArcGIS Online Map Viewer
ArcGIS Earth
Service Description: This data is considered draft and in formal review. Edits will be pending. Not for public consumptive use until formally published.
Name: Water_Resources/MAR_DepthToWaterRating
Description: This data is considered draft and in formal review. Edits will be pending. Not for public consumptive use until formally published.
Single Fused Map Cache: false
Extent:
XMin: 111865.9993999973
YMin: 17721.353599960566
XMax: 1030197.8901839311
YMax: 547597.848742399
Spatial Reference: 32100
(32100)
Initial Extent:
XMin: 111865.9993999973
YMin: 17721.353599960566
XMax: 1030197.8901839311
YMax: 547597.848742399
Spatial Reference: 32100
(32100)
Full Extent:
XMin: 111865.9993999973
YMin: 17721.353599960566
XMax: 1030197.8901839311
YMax: 547597.848742399
Spatial Reference: 32100
(32100)
Pixel Size X: 100.58399679999275
Pixel Size Y: 100.5839968000073
Band Count: 1
Pixel Type: S8
RasterFunction Infos: {"rasterFunctionInfos": [{
"help": "",
"name": "None",
"description": ""
}]}
Mensuration Capabilities: Basic
Inspection Capabilities:
Has Histograms: true
Has Colormap: false
Has Multi Dimensions : false
Rendering Rule:
Min Scale: 0
Max Scale: 0
Resampling: false
Copyright Text:
Service Data Type: esriImageServiceDataTypeGeneric
Min Values: 1
Max Values: 100
Mean Values: 42.273923138467268
Standard Deviation Values: 33.374831970146424
Object ID Field:
Fields:
None
Default Mosaic Method: Center
Allowed Mosaic Methods:
SortField:
SortValue: N/A
Mosaic Operator: First
Default Compression Quality: 75
Default Resampling Method: Bilinear
Max Record Count: null
Max Image Height: 4100
Max Image Width: 15000
Max Download Image Count: null
Max Mosaic Image Count: null
Allow Raster Function: true
Allow Copy: false
Allow Analysis: false
Allow Compute TiePoints: false
Supports Statistics: false
Supports Advanced Queries: false
Use StandardizedQueries: false
Raster Type Infos:
Name: Raster Dataset
Description: Supports all ArcGIS Raster Datasets
Help:
Has Raster Attribute Table: true
Edit Fields Info: N/A
Ownership Based AccessControl For Rasters: N/A
Child Resources:
Info
Raster Attribute Table
Histograms
Statistics
Key Properties
Legend
Raster Function Infos
Supported Operations:
Export Image
Identify
Measure
Compute Histograms
Compute Statistics Histograms
Get Samples
Compute Class Statistics
Query Boundary
Compute Pixel Location
Compute Angles
Validate
Project