View In:
ArcGIS JavaScript
ArcGIS Online Map Viewer
ArcGIS Earth
Service Description: Basemap/USGS_LandCoverChange_LCMAP
Name: Basemap/USGS_LandCoverChange_LCMAP
Description:
Single Fused Map Cache: false
Extent:
XMin: -116.04931446322433
YMin: 44.35765160395145
XMax: -104.03970297954865
YMax: 49.00114690753266
Spatial Reference: 4269
(4269)
Initial Extent:
XMin: -116.04931446322433
YMin: 44.35765160395145
XMax: -104.03970297954865
YMax: 49.00114690753266
Spatial Reference: 4269
(4269)
Full Extent:
XMin: -116.04931446322433
YMin: 44.35765160395145
XMax: -104.03970297954865
YMax: 49.00114690753266
Spatial Reference: 4269
(4269)
Pixel Size X: 3.769376819207082E-4
Pixel Size Y: 3.769376819207082E-4
Band Count: 1
Pixel Type: U8
RasterFunction Infos: {"rasterFunctionInfos": [{
"help": "",
"name": "None",
"description": ""
}]}
Mensuration Capabilities: Basic
Inspection Capabilities:
Has Histograms: true
Has Colormap: true
Has Multi Dimensions : false
Rendering Rule:
Min Scale: 0
Max Scale: 0
Copyright Text:
Service Data Type: esriImageServiceDataTypeThematic
Min Values: 1
Max Values: 8
Mean Values: 3.1329844084187157
Standard Deviation Values: 0.90665547890118525
Object ID Field:
Fields:
None
Default Mosaic Method: Center
Allowed Mosaic Methods:
SortField:
SortValue: N/A
Mosaic Operator: First
Default Compression Quality: 75
Default Resampling Method: Bilinear
Max Record Count: null
Max Image Height: 4100
Max Image Width: 15000
Max Download Image Count: null
Max Mosaic Image Count: null
Allow Raster Function: true
Allow Copy: true
Allow Analysis: true
Allow Compute TiePoints: false
Supports Statistics: false
Supports Advanced Queries: false
Use StandardizedQueries: false
Raster Type Infos:
Name: Raster Dataset
Description: Supports all ArcGIS Raster Datasets
Help:
Has Raster Attribute Table: false
Edit Fields Info: N/A
Ownership Based AccessControl For Rasters: N/A
Child Resources:
Info
Histograms
Statistics
Key Properties
Color Map
Legend
Raster Function Infos
Supported Operations:
Export Image
Identify
Measure
Compute Histograms
Compute Statistics Histograms
Get Samples
Compute Class Statistics
Query Boundary
Compute Pixel Location
Compute Angles
Validate
Project